BEGIN:VCALENDAR
VERSION:2.0
PRODID:-//KRAV Zone - ECPv6.15.20//NONSGML v1.0//EN
CALSCALE:GREGORIAN
METHOD:PUBLISH
X-ORIGINAL-URL:https://kravmagabayarea.com
X-WR-CALDESC:Events for KRAV Zone
REFRESH-INTERVAL;VALUE=DURATION:PT1H
X-Robots-Tag:noindex
X-PUBLISHED-TTL:PT1H
BEGIN:VTIMEZONE
TZID:America/Los_Angeles
BEGIN:DAYLIGHT
TZOFFSETFROM:-0800
TZOFFSETTO:-0700
TZNAME:PDT
DTSTART:20220313T100000
END:DAYLIGHT
BEGIN:STANDARD
TZOFFSETFROM:-0700
TZOFFSETTO:-0800
TZNAME:PST
DTSTART:20221106T090000
END:STANDARD
BEGIN:DAYLIGHT
TZOFFSETFROM:-0800
TZOFFSETTO:-0700
TZNAME:PDT
DTSTART:20230312T100000
END:DAYLIGHT
BEGIN:STANDARD
TZOFFSETFROM:-0700
TZOFFSETTO:-0800
TZNAME:PST
DTSTART:20231105T090000
END:STANDARD
BEGIN:DAYLIGHT
TZOFFSETFROM:-0800
TZOFFSETTO:-0700
TZNAME:PDT
DTSTART:20240310T100000
END:DAYLIGHT
BEGIN:STANDARD
TZOFFSETFROM:-0700
TZOFFSETTO:-0800
TZNAME:PST
DTSTART:20241103T090000
END:STANDARD
BEGIN:DAYLIGHT
TZOFFSETFROM:-0800
TZOFFSETTO:-0700
TZNAME:PDT
DTSTART:20250309T100000
END:DAYLIGHT
BEGIN:STANDARD
TZOFFSETFROM:-0700
TZOFFSETTO:-0800
TZNAME:PST
DTSTART:20251102T090000
END:STANDARD
END:VTIMEZONE
BEGIN:VEVENT
DTSTART;VALUE=DATE:20231225
DTEND;VALUE=DATE:20240107
DTSTAMP:20260421T073631
CREATED:20230813T011548Z
LAST-MODIFIED:20230813T012829Z
UID:5331-1703462400-1704585599@kravmagabayarea.com
SUMMARY:Winter Recess
DESCRIPTION:no kids classes
URL:https://kravmagabayarea.com/event/winter-recess/
END:VEVENT
BEGIN:VEVENT
DTSTART;VALUE=DATE:20231230
DTEND;VALUE=DATE:20240102
DTSTAMP:20260421T073631
CREATED:20230813T013229Z
LAST-MODIFIED:20230813T013300Z
UID:5339-1703894400-1704153599@kravmagabayarea.com
SUMMARY:New Years long weekend
DESCRIPTION:kravzone will be close
URL:https://kravmagabayarea.com/event/new-years-long-weekend/
END:VEVENT
BEGIN:VEVENT
DTSTART;VALUE=DATE:20240115
DTEND;VALUE=DATE:20240116
DTSTAMP:20260421T073631
CREATED:20230813T013343Z
LAST-MODIFIED:20230813T013420Z
UID:5343-1705276800-1705363199@kravmagabayarea.com
SUMMARY:MLK Day
DESCRIPTION:kravzone will be close
URL:https://kravmagabayarea.com/event/mlk-day/
END:VEVENT
BEGIN:VEVENT
DTSTART;TZID=America/Los_Angeles:20240118T190000
DTEND;TZID=America/Los_Angeles:20240118T210000
DTSTAMP:20260421T073631
CREATED:20231227T232620Z
LAST-MODIFIED:20231227T232620Z
UID:5519-1705604400-1705611600@kravmagabayarea.com
SUMMARY:Adults' Level 3\,4 Test
DESCRIPTION:For students with approval only.
URL:https://kravmagabayarea.com/event/adults-level-34-test/
END:VEVENT
BEGIN:VEVENT
DTSTART;TZID=America/Los_Angeles:20240123T180000
DTEND;TZID=America/Los_Angeles:20240123T200000
DTSTAMP:20260421T073631
CREATED:20231227T232313Z
LAST-MODIFIED:20231227T233312Z
UID:5515-1706032800-1706040000@kravmagabayarea.com
SUMMARY:Adults' Krav level 1 test
DESCRIPTION:For students who attended at least 16 classes.
URL:https://kravmagabayarea.com/event/adults-krav-level-1-test/
END:VEVENT
END:VCALENDAR